BEGIN:VCALENDAR
VERSION:2.0
PRODID:-//The Oglethorpe Club - ECPv4.5.13//NONSGML v1.0//EN
CALSCALE:GREGORIAN
METHOD:PUBLISH
X-WR-CALNAME:The Oglethorpe Club
X-ORIGINAL-URL:http://oglethorpeclub.org
X-WR-CALDESC:Events for The Oglethorpe Club
BEGIN:VEVENT
DTSTART;VALUE=DATE:20161218
DTEND;VALUE=DATE:20161218
DTSTAMP:20260422T084855
CREATED:20161023T183013Z
LAST-MODIFIED:20161202T225410Z
UID:1798-1482019200-1482105599@oglethorpeclub.org
SUMMARY:HOLIDAY BRUNCH WITH SANTA
DESCRIPTION:Join us for Holiday Brunch! \n11:30AM – First Seating\n1:45PM – Second Seating \n
URL:http://oglethorpeclub.org/event/sunday-dinner-2016-12-18/
END:VEVENT
BEGIN:VEVENT
DTSTART;TZID=UTC+0:20161218T170000
DTEND;TZID=UTC+0:20161218T210000
DTSTAMP:20260422T084855
CREATED:20161202T230059Z
LAST-MODIFIED:20161202T230059Z
UID:1869-1482080400-1482094800@oglethorpeclub.org
SUMMARY:NO DINNER SERVICE
DESCRIPTION:
URL:http://oglethorpeclub.org/event/no-dinner-service/
END:VEVENT
END:VCALENDAR