BEGIN:VCALENDAR
VERSION:2.0
PRODID:-//The Oglethorpe Club - ECPv4.5.13//NONSGML v1.0//EN
CALSCALE:GREGORIAN
METHOD:PUBLISH
X-WR-CALNAME:The Oglethorpe Club
X-ORIGINAL-URL:http://oglethorpeclub.org
X-WR-CALDESC:Events for The Oglethorpe Club
BEGIN:VEVENT
DTSTART;TZID=UTC+0:20170110T113000
DTEND;TZID=UTC+0:20170110T143000
DTSTAMP:20260422T085910
CREATED:20161022T012136Z
LAST-MODIFIED:20170110T170126Z
UID:1721-1484047800-1484058600@oglethorpeclub.org
SUMMARY:LUNCH
DESCRIPTION:
URL:http://oglethorpeclub.org/event/lunch-5/2017-01-10/
END:VEVENT
BEGIN:VEVENT
DTSTART;TZID=UTC+0:20170110T113000
DTEND;TZID=UTC+0:20170110T143000
DTSTAMP:20260422T085910
CREATED:20170110T185024Z
LAST-MODIFIED:20170110T185024Z
UID:3070-1484047800-1484058600@oglethorpeclub.org
SUMMARY:CHAMPAGNE BRUNCH
DESCRIPTION:
URL:http://oglethorpeclub.org/event/champagne-brunch-2/2017-01-10/
END:VEVENT
END:VCALENDAR